BEGIN:VCALENDAR
VERSION:2.0
PRODID:-//Roemer Mooijman - ECPv6.15.17.1//NONSGML v1.0//EN
CALSCALE:GREGORIAN
METHOD:PUBLISH
X-ORIGINAL-URL:https://roemermooijman.nl
X-WR-CALDESC:Evenementen voor Roemer Mooijman
REFRESH-INTERVAL;VALUE=DURATION:PT1H
X-Robots-Tag:noindex
X-PUBLISHED-TTL:PT1H
BEGIN:VTIMEZONE
TZID:Europe/Amsterdam
BEGIN:DAYLIGHT
TZOFFSETFROM:+0100
TZOFFSETTO:+0200
TZNAME:CEST
DTSTART:20160327T010000
END:DAYLIGHT
BEGIN:STANDARD
TZOFFSETFROM:+0200
TZOFFSETTO:+0100
TZNAME:CET
DTSTART:20161030T010000
END:STANDARD
BEGIN:DAYLIGHT
TZOFFSETFROM:+0100
TZOFFSETTO:+0200
TZNAME:CEST
DTSTART:20170326T010000
END:DAYLIGHT
BEGIN:STANDARD
TZOFFSETFROM:+0200
TZOFFSETTO:+0100
TZNAME:CET
DTSTART:20171029T010000
END:STANDARD
BEGIN:DAYLIGHT
TZOFFSETFROM:+0100
TZOFFSETTO:+0200
TZNAME:CEST
DTSTART:20180325T010000
END:DAYLIGHT
BEGIN:STANDARD
TZOFFSETFROM:+0200
TZOFFSETTO:+0100
TZNAME:CET
DTSTART:20181028T010000
END:STANDARD
BEGIN:DAYLIGHT
TZOFFSETFROM:+0100
TZOFFSETTO:+0200
TZNAME:CEST
DTSTART:20190331T010000
END:DAYLIGHT
BEGIN:STANDARD
TZOFFSETFROM:+0200
TZOFFSETTO:+0100
TZNAME:CET
DTSTART:20191027T010000
END:STANDARD
END:VTIMEZONE
BEGIN:VEVENT
DTSTART;TZID=Europe/Amsterdam:20180127T130000
DTEND;TZID=Europe/Amsterdam:20180127T180000
DTSTAMP:20260420T044932
CREATED:20170901T101139Z
LAST-MODIFIED:20170901T101139Z
UID:1029-1517058000-1517076000@roemermooijman.nl
SUMMARY:Taveerne - 8-eraf Amsterdam
DESCRIPTION:Wedstrijd in overgangsklasse C van de Superleague
URL:https://roemermooijman.nl/agenda-item/taveerne-8-eraf-amsterdam/
LOCATION:De Taveerne\, Wormerveer
CATEGORIES:superleague,team
END:VEVENT
BEGIN:VEVENT
DTSTART;TZID=Europe/Amsterdam:20180125T200000
DTEND;TZID=Europe/Amsterdam:20180125T233000
DTSTAMP:20260420T044932
CREATED:20170904T090445Z
LAST-MODIFIED:20170904T090445Z
UID:1082-1516910400-1516923000@roemermooijman.nl
SUMMARY:De Tegenstander - DV M.I.L.A.
DESCRIPTION:Wedstrijd in de eredivisie van de Darts Organisatie Noord-Holland Noord
URL:https://roemermooijman.nl/agenda-item/tegenstander-dv-m-i-l-a/
LOCATION:Café de Hoek\, Wervershoof
CATEGORIES:competitie,donhn,team
END:VEVENT
BEGIN:VEVENT
DTSTART;TZID=Europe/Amsterdam:20180120T130000
DTEND;TZID=Europe/Amsterdam:20180120T180000
DTSTAMP:20260420T044932
CREATED:20170901T100759Z
LAST-MODIFIED:20170901T100759Z
UID:1027-1516453200-1516471200@roemermooijman.nl
SUMMARY:Taveerne - Team Sonny's Darts
DESCRIPTION:Wedstrijd in overgangsklasse C van de Superleague
URL:https://roemermooijman.nl/agenda-item/taveerne-team-sonnys-darts/
LOCATION:De Taveerne\, Wormerveer
CATEGORIES:superleague,team
END:VEVENT
BEGIN:VEVENT
DTSTART;TZID=Europe/Amsterdam:20180109T200000
DTEND;TZID=Europe/Amsterdam:20180109T233000
DTSTAMP:20260420T044932
CREATED:20170904T090306Z
LAST-MODIFIED:20170904T090306Z
UID:1079-1515528000-1515540600@roemermooijman.nl
SUMMARY:De Sluis 2 - De Tegenstander
DESCRIPTION:Wedstrijd in de eredivisie van de Darts Organisatie Noord-Holland Noord
URL:https://roemermooijman.nl/agenda-item/sluis-2-tegenstander/
LOCATION:Sportcafé de Sluis\, Hoogkarspel
CATEGORIES:competitie,donhn,team
END:VEVENT
BEGIN:VEVENT
DTSTART;TZID=Europe/Amsterdam:20171219T200000
DTEND;TZID=Europe/Amsterdam:20171219T233000
DTSTAMP:20260420T044932
CREATED:20170904T090106Z
LAST-MODIFIED:20170904T090106Z
UID:1076-1513713600-1513726200@roemermooijman.nl
SUMMARY:Softtippers - De Tegenstander
DESCRIPTION:Wedstrijd in de eredivisie van de Darts Organisatie Noord-Holland Noord
URL:https://roemermooijman.nl/agenda-item/softtippers-de-tegenstander/
LOCATION:De Kersepit\, Hoorn
CATEGORIES:competitie,donhn,team
END:VEVENT
BEGIN:VEVENT
DTSTART;TZID=Europe/Amsterdam:20171216T130000
DTEND;TZID=Europe/Amsterdam:20171216T180000
DTSTAMP:20260420T044932
CREATED:20170901T100553Z
LAST-MODIFIED:20170901T100553Z
UID:1025-1513429200-1513447200@roemermooijman.nl
SUMMARY:'t Pleintje Stampersgat - Taveerne
DESCRIPTION:Wedstrijd in overgangsklasse C van de Superleague
URL:https://roemermooijman.nl/agenda-item/t-pleintje-stampersgat-taveerne-2/
LOCATION:’t Pleintje\, Stampersgat
CATEGORIES:superleague,team
END:VEVENT
BEGIN:VEVENT
DTSTART;TZID=Europe/Amsterdam:20171214T200000
DTEND;TZID=Europe/Amsterdam:20171214T233000
DTSTAMP:20260420T044932
CREATED:20170904T085829Z
LAST-MODIFIED:20170904T085829Z
UID:1074-1513281600-1513294200@roemermooijman.nl
SUMMARY:De Tegenstander - Powerdarts
DESCRIPTION:Wedstrijd in de eredivisie van de Darts Organisatie Noord-Holland Noord
URL:https://roemermooijman.nl/agenda-item/de-tegenstander-powerdarts/
LOCATION:Café de Hoek\, Wervershoof
CATEGORIES:competitie,donhn,team
END:VEVENT
BEGIN:VEVENT
DTSTART;TZID=Europe/Amsterdam:20171202T130000
DTEND;TZID=Europe/Amsterdam:20171202T180000
DTSTAMP:20260420T044932
CREATED:20170901T100217Z
LAST-MODIFIED:20170901T100217Z
UID:1023-1512219600-1512237600@roemermooijman.nl
SUMMARY:Taveerne - Makkers van Marktzicht
DESCRIPTION:Wedstrijd in overgangsklasse C van de Superleague
URL:https://roemermooijman.nl/agenda-item/taveerne-makkers-marktzicht/
LOCATION:De Taveerne\, Wormerveer
CATEGORIES:superleague,team
END:VEVENT
BEGIN:VEVENT
DTSTART;TZID=Europe/Amsterdam:20171130T200000
DTEND;TZID=Europe/Amsterdam:20171130T233000
DTSTAMP:20260420T044932
CREATED:20170904T085653Z
LAST-MODIFIED:20170904T085653Z
UID:1072-1512072000-1512084600@roemermooijman.nl
SUMMARY:De Tegenstander - Lords of the Boards
DESCRIPTION:Wedstrijd in de eredivisie van de Darts Organisatie Noord-Holland Noord
URL:https://roemermooijman.nl/agenda-item/tegenstander-lords-the-boards/
LOCATION:Café de Hoek\, Wervershoof
CATEGORIES:competitie,donhn,team
END:VEVENT
BEGIN:VEVENT
DTSTART;TZID=Europe/Amsterdam:20171125T130000
DTEND;TZID=Europe/Amsterdam:20171125T180000
DTSTAMP:20260420T044932
CREATED:20170901T095637Z
LAST-MODIFIED:20170901T095637Z
UID:1021-1511614800-1511632800@roemermooijman.nl
SUMMARY:Agnes en Schier Barendrecht - Taveerne
DESCRIPTION:Wedstrijd in overgangsklasse C van de Superleague
URL:https://roemermooijman.nl/agenda-item/agnes-en-schier-barendrecht-taveerne/
CATEGORIES:superleague,team
END:VEVENT
BEGIN:VEVENT
DTSTART;TZID=Europe/Amsterdam:20171124T200000
DTEND;TZID=Europe/Amsterdam:20171124T233000
DTSTAMP:20260420T044932
CREATED:20170904T085345Z
LAST-MODIFIED:20170904T085345Z
UID:1069-1511553600-1511566200@roemermooijman.nl
SUMMARY:De Roos - De Tegenstander
DESCRIPTION:Wedstrijd in de eredivisie van de Darts Organisatie Noord-Holland Noord
URL:https://roemermooijman.nl/agenda-item/de-roos-de-tegenstander/
LOCATION:Café de Roos\, Lindenlaan 1\, Alkmaar
CATEGORIES:competitie,donhn,team
END:VEVENT
BEGIN:VEVENT
DTSTART;TZID=Europe/Amsterdam:20171109T200000
DTEND;TZID=Europe/Amsterdam:20171109T233000
DTSTAMP:20260420T044932
CREATED:20170904T085121Z
LAST-MODIFIED:20170904T085121Z
UID:1067-1510257600-1510270200@roemermooijman.nl
SUMMARY:De Tegenstander - Kings
DESCRIPTION:Wedstrijd in de eredivisie van de Darts Organisatie Noord-Holland Noord
URL:https://roemermooijman.nl/agenda-item/de-tegenstander-kings/
LOCATION:Café de Hoek\, Wervershoof
CATEGORIES:competitie,donhn,team
END:VEVENT
BEGIN:VEVENT
DTSTART;TZID=Europe/Amsterdam:20171104T130000
DTEND;TZID=Europe/Amsterdam:20171104T180000
DTSTAMP:20260420T044932
CREATED:20170901T095252Z
LAST-MODIFIED:20170901T095252Z
UID:1019-1509800400-1509818400@roemermooijman.nl
SUMMARY:Taveerne - Flora Bar
DESCRIPTION:Wedstrijd in overgangsklasse C van de Superleague
URL:https://roemermooijman.nl/agenda-item/taveerne-flora-bar/
LOCATION:De Taveerne\, Wormerveer
CATEGORIES:superleague,team
END:VEVENT
BEGIN:VEVENT
DTSTART;TZID=Europe/Amsterdam:20171030T200000
DTEND;TZID=Europe/Amsterdam:20171030T233000
DTSTAMP:20260420T044932
CREATED:20170904T085021Z
LAST-MODIFIED:20170904T085021Z
UID:1065-1509393600-1509406200@roemermooijman.nl
SUMMARY:Sportcafé Zwaag - De Tegenstander
DESCRIPTION:Wedstrijd in de eredivisie van de Darts Organisatie Noord-Holland Noord
URL:https://roemermooijman.nl/agenda-item/sportcafe-zwaag-tegenstander/
LOCATION:Sportcafé Zwaag
CATEGORIES:competitie,donhn,team
END:VEVENT
BEGIN:VEVENT
DTSTART;TZID=Europe/Amsterdam:20171028T130000
DTEND;TZID=Europe/Amsterdam:20171028T180000
DTSTAMP:20260420T044932
CREATED:20170901T095143Z
LAST-MODIFIED:20170901T095143Z
UID:1017-1509195600-1509213600@roemermooijman.nl
SUMMARY:Taveerne - Raketcentrum Terneuzen
DESCRIPTION:Wedstrijd in overgangsklasse C van de Superleague
URL:https://roemermooijman.nl/agenda-item/taveerne-raketcentrum-terneuzen/
LOCATION:De Taveerne\, Wormerveer
CATEGORIES:superleague,team
END:VEVENT
BEGIN:VEVENT
DTSTART;TZID=Europe/Amsterdam:20171019T200000
DTEND;TZID=Europe/Amsterdam:20171019T233000
DTSTAMP:20260420T044932
CREATED:20170904T084916Z
LAST-MODIFIED:20170904T084916Z
UID:1063-1508443200-1508455800@roemermooijman.nl
SUMMARY:De Tegenstander - Lange Jan
DESCRIPTION:Wedstrijd in de eredivisie van de Darts Organisatie Noord-Holland Noord
URL:https://roemermooijman.nl/agenda-item/tegenstander-lange-jan-2/
LOCATION:Café de Hoek\, Wervershoof
CATEGORIES:competitie,donhn,team
END:VEVENT
BEGIN:VEVENT
DTSTART;TZID=Europe/Amsterdam:20171014T130000
DTEND;TZID=Europe/Amsterdam:20171014T180000
DTSTAMP:20260420T044932
CREATED:20170901T094937Z
LAST-MODIFIED:20170901T094937Z
UID:1015-1507986000-1508004000@roemermooijman.nl
SUMMARY:Goudenregenbar 1 - Taveerne
DESCRIPTION:Wedstrijd in overgangsklasse C van de Superleague
URL:https://roemermooijman.nl/agenda-item/goudenregenbar-1-taveerne/
LOCATION:Goudenregenbar\, Den Haag\, Den Haag
CATEGORIES:superleague,team
END:VEVENT
BEGIN:VEVENT
DTSTART;TZID=Europe/Amsterdam:20171013T200000
DTEND;TZID=Europe/Amsterdam:20171013T233000
DTSTAMP:20260420T044932
CREATED:20170904T084655Z
LAST-MODIFIED:20170904T084655Z
UID:1061-1507924800-1507937400@roemermooijman.nl
SUMMARY:Bullshit - De Tegenstander
DESCRIPTION:Wedstrijd in de eredivisie van de Darts Organisatie Noord-Holland Noord
URL:https://roemermooijman.nl/agenda-item/bullshit-de-tegenstander-2/
LOCATION:De Roode Leeuw
CATEGORIES:competitie,donhn,team
END:VEVENT
BEGIN:VEVENT
DTSTART;TZID=Europe/Amsterdam:20171005T200000
DTEND;TZID=Europe/Amsterdam:20171005T233000
DTSTAMP:20260420T044932
CREATED:20170904T084357Z
LAST-MODIFIED:20170904T084357Z
UID:1058-1507233600-1507246200@roemermooijman.nl
SUMMARY:Niet te Pijlen - De Tegenstander
DESCRIPTION:Wedstrijd in het bekertoernooi van de Darts Organisatie Noord-Holland Noord
URL:https://roemermooijman.nl/agenda-item/niet-te-pijlen-de-tegenstander/
LOCATION:Café d’Ontmoeting\, De Goorn
CATEGORIES:beker,donhn,team
END:VEVENT
BEGIN:VEVENT
DTSTART;TZID=Europe/Amsterdam:20170930T130000
DTEND;TZID=Europe/Amsterdam:20170930T180000
DTSTAMP:20260420T044932
CREATED:20170901T094825Z
LAST-MODIFIED:20170901T094825Z
UID:1013-1506776400-1506794400@roemermooijman.nl
SUMMARY:Taveerne - Café de Schot Zaandam
DESCRIPTION:Wedstrijd in overgangsklasse C van de Superleague
URL:https://roemermooijman.nl/agenda-item/taveerne-cafe-schot-zaandam/
LOCATION:De Taveerne\, Wormerveer
CATEGORIES:superleague,team
END:VEVENT
BEGIN:VEVENT
DTSTART;TZID=Europe/Amsterdam:20170928T200000
DTEND;TZID=Europe/Amsterdam:20170928T233000
DTSTAMP:20260420T044932
CREATED:20170904T083959Z
LAST-MODIFIED:20170904T083959Z
UID:1056-1506628800-1506641400@roemermooijman.nl
SUMMARY:De Tegenstander - Alibi 1
DESCRIPTION:Wedstrijd in de eredivisie van de Darts Organisatie Noord-Holland Noord
URL:https://roemermooijman.nl/agenda-item/tegenstander-alibi-1-2/
LOCATION:Café de Hoek\, Wervershoof
CATEGORIES:competitie,donhn,team
END:VEVENT
BEGIN:VEVENT
DTSTART;TZID=Europe/Amsterdam:20170922T200000
DTEND;TZID=Europe/Amsterdam:20170922T233000
DTSTAMP:20260420T044932
CREATED:20170904T083836Z
LAST-MODIFIED:20170904T083836Z
UID:1053-1506110400-1506123000@roemermooijman.nl
SUMMARY:DV M.I.L.A - De Tegenstander
DESCRIPTION:Wedstrijd in de eredivisie van de Darts Organisatie Noord-Holland Noord
URL:https://roemermooijman.nl/agenda-item/dv-m-i-l-a-tegenstander/
LOCATION:Dorpshuis Prins Maurits\, Nieuwe Niedorp
CATEGORIES:competitie,donhn,team
END:VEVENT
BEGIN:VEVENT
DTSTART;TZID=Europe/Amsterdam:20170916T130000
DTEND;TZID=Europe/Amsterdam:20170916T180000
DTSTAMP:20260420T044932
CREATED:20170901T094710Z
LAST-MODIFIED:20170901T094710Z
UID:1010-1505566800-1505584800@roemermooijman.nl
SUMMARY:8-eraf Amsterdam - Taveerne
DESCRIPTION:Wedstrijd in overgangsklasse C van de Superleague
URL:https://roemermooijman.nl/agenda-item/8-eraf-amsterdam-taveerne/
LOCATION:Bij 8-eraf\, Amsterdam
CATEGORIES:superleague,team
END:VEVENT
BEGIN:VEVENT
DTSTART;TZID=Europe/Amsterdam:20170914T200000
DTEND;TZID=Europe/Amsterdam:20170914T233000
DTSTAMP:20260420T044932
CREATED:20170904T083716Z
LAST-MODIFIED:20170904T083716Z
UID:1051-1505419200-1505431800@roemermooijman.nl
SUMMARY:De Tegenstander - De Sluis 2
DESCRIPTION:Wedstrijd in de eredivisie van de Darts Organisatie Noord-Holland Noord
URL:https://roemermooijman.nl/agenda-item/tegenstander-sluis-2/
LOCATION:Café de Hoek\, Wervershoof
CATEGORIES:competitie,donhn,team
END:VEVENT
BEGIN:VEVENT
DTSTART;TZID=Europe/Amsterdam:20170702T100000
DTEND;TZID=Europe/Amsterdam:20170702T190000
DTSTAMP:20260420T044932
CREATED:20170508T072432Z
LAST-MODIFIED:20170508T072432Z
UID:788-1498989600-1499022000@roemermooijman.nl
SUMMARY:Nederlandse Kampioenschappen Eredivisie
DESCRIPTION:Nationaal kampioenschap van alle teams die in hun bond de eredivisie wonnen. De winnaar mag zich een jaar lang Nederlands kampioen eredivisie noemen.
URL:https://roemermooijman.nl/agenda-item/nederlandse-kampioenschappen-eredivisie/
LOCATION:Sporthal Corlaer\, Nijkerk\, Nederland
CATEGORIES:competitie,donhn,team
END:VEVENT
BEGIN:VEVENT
DTSTART;TZID=Europe/Amsterdam:20170616T200000
DTEND;TZID=Europe/Amsterdam:20170616T235900
DTSTAMP:20260420T044932
CREATED:20170525T074839Z
LAST-MODIFIED:20170525T074839Z
UID:840-1497643200-1497657540@roemermooijman.nl
SUMMARY:Finaledag NDB Teamcup
DESCRIPTION:Wedstrijd in de halve finale en eventueel finale van de NDB Teamcup
URL:https://roemermooijman.nl/agenda-item/finaledag-ndb-teamcup/
LOCATION:Van der Valk Leusden
CATEGORIES:ndb teamcup,team
ATTACH;FMTTYPE=image/jpeg:https://roemermooijman.nl/wp-content/uploads/2017/04/ndb_teamcup.jpg
END:VEVENT
BEGIN:VEVENT
DTSTART;TZID=Europe/Amsterdam:20170610T130000
DTEND;TZID=Europe/Amsterdam:20170610T180000
DTSTAMP:20260420T044932
CREATED:20170412T182115Z
LAST-MODIFIED:20170412T182115Z
UID:739-1497099600-1497117600@roemermooijman.nl
SUMMARY:'t Pleintje Stampersgat - Taveerne
DESCRIPTION:Wedstrijd in overgangsklasse C van de SuperLeague
URL:https://roemermooijman.nl/agenda-item/t-pleintje-stampersgat-taveerne/
LOCATION:’t Pleintje\, Stampersgat
CATEGORIES:superleague,team
ATTACH;FMTTYPE=image/jpeg:https://roemermooijman.nl/wp-content/uploads/2017/03/superleague_logo.jpg
END:VEVENT
BEGIN:VEVENT
DTSTART;TZID=Europe/Amsterdam:20170527T200000
DTEND;TZID=Europe/Amsterdam:20170527T235900
DTSTAMP:20260420T044932
CREATED:20170421T075402Z
LAST-MODIFIED:20170421T092548Z
UID:748-1495915200-1495929540@roemermooijman.nl
SUMMARY:Finaleronde beker DONHN
DESCRIPTION:De beslissing in het bekertoernooi van de DONHN. De halve finales en de finale worden achtereenvolgens gespeeld.
URL:https://roemermooijman.nl/agenda-item/finaleronde-beker-donhn/
LOCATION:Café de Hoek\, Wervershoof
CATEGORIES:beker,donhn,team
ATTACH;FMTTYPE=image/jpeg:https://roemermooijman.nl/wp-content/uploads/2017/03/DONHN_logo.jpg
END:VEVENT
BEGIN:VEVENT
DTSTART;TZID=Europe/Amsterdam:20170527T080000
DTEND;TZID=Europe/Amsterdam:20170527T170000
DTSTAMP:20260420T044932
CREATED:20170412T181820Z
LAST-MODIFIED:20170412T181820Z
UID:736-1495872000-1495904400@roemermooijman.nl
SUMMARY:Goudenregenbar Sterkdarts 4 - Taveerne
DESCRIPTION:Wedstrijd in overgangsklasse C van de SuperLeague
URL:https://roemermooijman.nl/agenda-item/goudenregenbar-sterkdarts-4-taveerne/
LOCATION:Goudenregenbar\, Den Haag\, Den Haag
CATEGORIES:superleague,team
ATTACH;FMTTYPE=image/jpeg:https://roemermooijman.nl/wp-content/uploads/2017/03/superleague_logo.jpg
END:VEVENT
BEGIN:VEVENT
DTSTART;TZID=Europe/Amsterdam:20170520T130000
DTEND;TZID=Europe/Amsterdam:20170520T180000
DTSTAMP:20260420T044932
CREATED:20170412T181606Z
LAST-MODIFIED:20170412T181606Z
UID:734-1495285200-1495303200@roemermooijman.nl
SUMMARY:Taveerne - Racketcentrum Terneuzen
DESCRIPTION:Wedstrijd in de overgangsklasse C van de SuperLeague
URL:https://roemermooijman.nl/agenda-item/taveerne-racketcentrum-terneuzen/
LOCATION:De Taveerne\, Wormerveer
CATEGORIES:superleague,team
ATTACH;FMTTYPE=image/jpeg:https://roemermooijman.nl/wp-content/uploads/2017/03/superleague_logo.jpg
END:VEVENT
END:VCALENDAR