BEGIN:VCALENDAR
VERSION:2.0
PRODID:-//Roemer Mooijman - ECPv6.15.17.1//NONSGML v1.0//EN
CALSCALE:GREGORIAN
METHOD:PUBLISH
X-ORIGINAL-URL:https://roemermooijman.nl
X-WR-CALDESC:Evenementen voor Roemer Mooijman
REFRESH-INTERVAL;VALUE=DURATION:PT1H
X-Robots-Tag:noindex
X-PUBLISHED-TTL:PT1H
BEGIN:VTIMEZONE
TZID:Europe/Amsterdam
BEGIN:DAYLIGHT
TZOFFSETFROM:+0100
TZOFFSETTO:+0200
TZNAME:CEST
DTSTART:20170326T010000
END:DAYLIGHT
BEGIN:STANDARD
TZOFFSETFROM:+0200
TZOFFSETTO:+0100
TZNAME:CET
DTSTART:20171029T010000
END:STANDARD
BEGIN:DAYLIGHT
TZOFFSETFROM:+0100
TZOFFSETTO:+0200
TZNAME:CEST
DTSTART:20180325T010000
END:DAYLIGHT
BEGIN:STANDARD
TZOFFSETFROM:+0200
TZOFFSETTO:+0100
TZNAME:CET
DTSTART:20181028T010000
END:STANDARD
BEGIN:DAYLIGHT
TZOFFSETFROM:+0100
TZOFFSETTO:+0200
TZNAME:CEST
DTSTART:20190331T010000
END:DAYLIGHT
BEGIN:STANDARD
TZOFFSETFROM:+0200
TZOFFSETTO:+0100
TZNAME:CET
DTSTART:20191027T010000
END:STANDARD
BEGIN:DAYLIGHT
TZOFFSETFROM:+0100
TZOFFSETTO:+0200
TZNAME:CEST
DTSTART:20200329T010000
END:DAYLIGHT
BEGIN:STANDARD
TZOFFSETFROM:+0200
TZOFFSETTO:+0100
TZNAME:CET
DTSTART:20201025T010000
END:STANDARD
END:VTIMEZONE
BEGIN:VEVENT
DTSTART;TZID=Europe/Amsterdam:20191016T200000
DTEND;TZID=Europe/Amsterdam:20191016T233000
DTSTAMP:20260419T214454
CREATED:20190830T100155Z
LAST-MODIFIED:20190830T100155Z
UID:1549-1571256000-1571268600@roemermooijman.nl
SUMMARY:Sportcafé Zwaag - De Tegenstander
DESCRIPTION:Wedstrijd in het bekertoernooi van de DONHN
URL:https://roemermooijman.nl/agenda-item/sportcafe-zwaag-de-tegenstander/
LOCATION:Sportcafé Zwaag
CATEGORIES:beker,donhn,team
END:VEVENT
BEGIN:VEVENT
DTSTART;TZID=Europe/Amsterdam:20191008T200000
DTEND;TZID=Europe/Amsterdam:20191008T233000
DTSTAMP:20260419T214454
CREATED:20190830T095825Z
LAST-MODIFIED:20190830T095825Z
UID:1547-1570564800-1570577400@roemermooijman.nl
SUMMARY:Softtippers - De Tegenstander
DESCRIPTION:Wedstrijd in de eredivisie van de DONHN
URL:https://roemermooijman.nl/agenda-item/softtippers-de-tegenstander-2/
LOCATION:De Kersepit\, Hoorn
CATEGORIES:competitie,donhn,team
END:VEVENT
BEGIN:VEVENT
DTSTART;TZID=Europe/Amsterdam:20191003T200000
DTEND;TZID=Europe/Amsterdam:20191003T233000
DTSTAMP:20260419T214454
CREATED:20190830T095719Z
LAST-MODIFIED:20190830T095719Z
UID:1545-1570132800-1570145400@roemermooijman.nl
SUMMARY:De Tegenstander - DV M.I.L.A.
DESCRIPTION:Wedstrijd in de eredivisie van de DONHN
URL:https://roemermooijman.nl/agenda-item/de-tegenstander-dv-m-i-l-a/
LOCATION:Wijkvereniging De Link\, Standerdmolen 8-A\, Heerhugowaard\, Noord-Holland\, 1703NK\, Nederland
CATEGORIES:competitie,donhn,team
END:VEVENT
BEGIN:VEVENT
DTSTART;TZID=Europe/Amsterdam:20190919T200000
DTEND;TZID=Europe/Amsterdam:20190919T233000
DTSTAMP:20260419T214454
CREATED:20190830T095346Z
LAST-MODIFIED:20190830T095346Z
UID:1543-1568923200-1568935800@roemermooijman.nl
SUMMARY:Lords of the Boards - De Tegenstander
DESCRIPTION:Wedstrijd in de eredivisie van de DONHN
URL:https://roemermooijman.nl/agenda-item/lords-of-the-boards-de-tegenstander/
LOCATION:Café d’Ontmoeting\, De Goorn
CATEGORIES:competitie,donhn,team
END:VEVENT
BEGIN:VEVENT
DTSTART;TZID=Europe/Amsterdam:20190912T200000
DTEND;TZID=Europe/Amsterdam:20190912T233000
DTSTAMP:20260419T214454
CREATED:20190830T095156Z
LAST-MODIFIED:20190830T095156Z
UID:1540-1568318400-1568331000@roemermooijman.nl
SUMMARY:De Tegenstander - Sportcafé Zwaag
DESCRIPTION:Wedstrijd in de eredivisie van de DONHN
URL:https://roemermooijman.nl/agenda-item/de-tegenstander-sportcafe-zwaag/
LOCATION:Wijkvereniging De Link\, Standerdmolen 8-A\, Heerhugowaard\, Noord-Holland\, 1703NK\, Nederland
CATEGORIES:competitie,donhn,team
END:VEVENT
BEGIN:VEVENT
DTSTART;TZID=Europe/Amsterdam:20190630T100000
DTEND;TZID=Europe/Amsterdam:20190630T190000
DTSTAMP:20260419T214454
CREATED:20190531T065902Z
LAST-MODIFIED:20190531T065902Z
UID:1443-1561888800-1561921200@roemermooijman.nl
SUMMARY:NDB Nationale Divisiekampioenschappen
DESCRIPTION:Op de nationale kampioenschappen spelen alle kampioenen van de bonden tegen elkaar met als doel zichzelf aan het einde van de dag tot Nederlands Kampioen te kunnen kronen
URL:https://roemermooijman.nl/agenda-item/ndb-nationale-divisiekampioenschappen/
LOCATION:Sporthal Corlaer\, Nijkerk\, Nederland
CATEGORIES:competitie,donhn,team,toernooi
END:VEVENT
BEGIN:VEVENT
DTSTART;TZID=Europe/Amsterdam:20190616T100000
DTEND;TZID=Europe/Amsterdam:20190616T190000
DTSTAMP:20260419T214454
CREATED:20190531T065626Z
LAST-MODIFIED:20190531T065626Z
UID:1441-1560679200-1560711600@roemermooijman.nl
SUMMARY:NDB Nationale Bekerkampioenschappen
DESCRIPTION:De nationale bekerkampioenschappen\, waar de bekerwinnaars van alle bonden met elkaar strijden om de nationale beker
URL:https://roemermooijman.nl/agenda-item/ndb-nationale-bekerkampioenschappen/
LOCATION:Sporthal Corlaer\, Nijkerk\, Nederland
CATEGORIES:beker,donhn,team,toernooi
END:VEVENT
BEGIN:VEVENT
DTSTART;TZID=Europe/Amsterdam:20190526T100000
DTEND;TZID=Europe/Amsterdam:20190526T180000
DTSTAMP:20260419T214454
CREATED:20190325T082504Z
LAST-MODIFIED:20190325T085826Z
UID:1380-1558864800-1558893600@roemermooijman.nl
SUMMARY:DONHN bekerkampioenschappen
DESCRIPTION:Halve finale en finale van het DONHN bekertoernooi\, mits dat gehaald wordt door Team Prima Darts.
URL:https://roemermooijman.nl/agenda-item/donhn-bekerkampioenschappen/
LOCATION:Café de Swan\, Middenweg 178\, Heerhugowaard\, Nederland
CATEGORIES:beker,donhn,team
END:VEVENT
BEGIN:VEVENT
DTSTART;TZID=Europe/Amsterdam:20190516T200000
DTEND;TZID=Europe/Amsterdam:20190516T233000
DTSTAMP:20260419T214454
CREATED:20190325T082202Z
LAST-MODIFIED:20190325T082202Z
UID:1378-1558036800-1558049400@roemermooijman.nl
SUMMARY:Kings - Team Prima Darts
DESCRIPTION:Wedstrijd in de eredivisie van de DONHN
URL:https://roemermooijman.nl/agenda-item/kings-team-prima-darts/
LOCATION:Café de Boell\, Den Helder
CATEGORIES:competitie,donhn,team
END:VEVENT
BEGIN:VEVENT
DTSTART;TZID=Europe/Amsterdam:20190509T200000
DTEND;TZID=Europe/Amsterdam:20190509T233000
DTSTAMP:20260419T214454
CREATED:20190325T082102Z
LAST-MODIFIED:20190325T082102Z
UID:1376-1557432000-1557444600@roemermooijman.nl
SUMMARY:Team Prima Darts - Bij de Buren
DESCRIPTION:Wedstrijd in de eredivisie van de DONHN
URL:https://roemermooijman.nl/agenda-item/team-prima-darts-buren/
LOCATION:Café de Hoek\, Wervershoof
CATEGORIES:competitie,donhn,team
END:VEVENT
BEGIN:VEVENT
DTSTART;TZID=Europe/Amsterdam:20190418T200000
DTEND;TZID=Europe/Amsterdam:20190418T233000
DTSTAMP:20260419T214454
CREATED:20190325T081958Z
LAST-MODIFIED:20190325T081958Z
UID:1374-1555617600-1555630200@roemermooijman.nl
SUMMARY:The Long John Gigolos - Team Prima Darts
DESCRIPTION:Wedstrijd in de eredivisie van de DONHN
URL:https://roemermooijman.nl/agenda-item/the-long-john-gigolos-team-prima-darts/
LOCATION:Café Lange Jan\, Enkhuizen
CATEGORIES:competitie,donhn,team
END:VEVENT
BEGIN:VEVENT
DTSTART;TZID=Europe/Amsterdam:20190411T200000
DTEND;TZID=Europe/Amsterdam:20190411T233000
DTSTAMP:20260419T214454
CREATED:20190325T075936Z
LAST-MODIFIED:20190325T075936Z
UID:1372-1555012800-1555025400@roemermooijman.nl
SUMMARY:Team Prima Darts - Obdam United
DESCRIPTION:Wedstrijd in de eredivisie van de DONHN.
URL:https://roemermooijman.nl/agenda-item/team-prima-darts-obdam-united/
LOCATION:Café de Hoek\, Wervershoof
CATEGORIES:competitie,donhn,team
END:VEVENT
BEGIN:VEVENT
DTSTART;TZID=Europe/Amsterdam:20190404T200000
DTEND;TZID=Europe/Amsterdam:20190404T233000
DTSTAMP:20260419T214454
CREATED:20190325T075733Z
LAST-MODIFIED:20190325T075733Z
UID:1370-1554408000-1554420600@roemermooijman.nl
SUMMARY:Lords of the Boards - Team Prima Darts
DESCRIPTION:Wedstrijd in de eredivisie van de DONHN.
URL:https://roemermooijman.nl/agenda-item/lords-the-boards-team-prima-darts/
LOCATION:Café d’Ontmoeting\, De Goorn
CATEGORIES:competitie,donhn,team
END:VEVENT
BEGIN:VEVENT
DTSTART;TZID=Europe/Amsterdam:20190327T200000
DTEND;TZID=Europe/Amsterdam:20190327T233000
DTSTAMP:20260419T214454
CREATED:20190325T074336Z
LAST-MODIFIED:20190325T074336Z
UID:1362-1553716800-1553729400@roemermooijman.nl
SUMMARY:Blue Gamblers - Second Generation
DESCRIPTION:Wedstrijd in het bekertoernooi van de DBZP
URL:https://roemermooijman.nl/agenda-item/blue-gamblers-second-generation/
LOCATION:De Blauwe Lantaarn\, Zaandam
CATEGORIES:beker,dbzp,team
END:VEVENT
BEGIN:VEVENT
DTSTART;TZID=Europe/Amsterdam:20190326T200000
DTEND;TZID=Europe/Amsterdam:20190326T233000
DTSTAMP:20260419T214454
CREATED:20190325T074645Z
LAST-MODIFIED:20190325T074645Z
UID:1364-1553630400-1553643000@roemermooijman.nl
SUMMARY:Mexxers - Team Prima Darts
DESCRIPTION:Wedstrijd in het bekertoernooi van de DONHN
URL:https://roemermooijman.nl/agenda-item/mexxers-team-prima-darts/
LOCATION:Café de Boell\, Den Helder
CATEGORIES:beker,donhn,team
END:VEVENT
BEGIN:VEVENT
DTSTART;TZID=Europe/Amsterdam:20190215T200000
DTEND;TZID=Europe/Amsterdam:20190215T233000
DTSTAMP:20260419T214454
CREATED:20190213T151758Z
LAST-MODIFIED:20190213T151902Z
UID:1345-1550260800-1550273400@roemermooijman.nl
SUMMARY:DV M.I.L.A. - Team Prima Darts
DESCRIPTION:Wedstrijd in de eredivisie van de DONHN
URL:https://roemermooijman.nl/agenda-item/dv-m-i-l-a-team-prima-darts/
LOCATION:Dorpshuis Prins Maurits\, Nieuwe Niedorp
CATEGORIES:competitie,donhn,team
END:VEVENT
BEGIN:VEVENT
DTSTART;TZID=Europe/Amsterdam:20181213T200000
DTEND;TZID=Europe/Amsterdam:20181213T233000
DTSTAMP:20260419T214454
CREATED:20181205T084242Z
LAST-MODIFIED:20181205T084242Z
UID:1325-1544731200-1544743800@roemermooijman.nl
SUMMARY:Team Prima Darts - The Long John Gigolos
DESCRIPTION:Wedstrijd in de eredivisie van de DONHN
URL:https://roemermooijman.nl/agenda-item/team-prima-darts-the-long-john-gigolos/
LOCATION:Café de Hoek\, Wervershoof
CATEGORIES:competitie,donhn,team
END:VEVENT
BEGIN:VEVENT
DTSTART;TZID=Europe/Amsterdam:20181206T200000
DTEND;TZID=Europe/Amsterdam:20181206T233000
DTSTAMP:20260419T214454
CREATED:20181205T084016Z
LAST-MODIFIED:20181205T084016Z
UID:1322-1544126400-1544139000@roemermooijman.nl
SUMMARY:Red Arrows - Second Generation
DESCRIPTION:Wedstrijd in de eredivisie van de DBZP
URL:https://roemermooijman.nl/agenda-item/red-arrows-second-generation/
LOCATION:Snooker en Pool Purmerend\, Beemsterburgwal 20\, Purmerend\, Nederland
CATEGORIES:competitie,dbzp,team
END:VEVENT
BEGIN:VEVENT
DTSTART;TZID=Europe/Amsterdam:20181114T200000
DTEND;TZID=Europe/Amsterdam:20181114T233000
DTSTAMP:20260419T214454
CREATED:20181112T151556Z
LAST-MODIFIED:20181112T151556Z
UID:1310-1542225600-1542238200@roemermooijman.nl
SUMMARY:Blue Gamblers 1 - Second Generation
DESCRIPTION:Wedstrijd in de eredivisie van de DBZP
URL:https://roemermooijman.nl/agenda-item/blue-gamblers-1-second-generation/
LOCATION:De Blauwe Lantaarn\, Zaandam
CATEGORIES:competitie,dbzp,team
END:VEVENT
BEGIN:VEVENT
DTSTART;TZID=Europe/Amsterdam:20180921T200000
DTEND;TZID=Europe/Amsterdam:20180921T233000
DTSTAMP:20260419T214454
CREATED:20180921T101128Z
LAST-MODIFIED:20180921T101128Z
UID:1300-1537560000-1537572600@roemermooijman.nl
SUMMARY:The Saints - Second Generation
DESCRIPTION:Wedstrijd in de eredivisie van de DBZP
URL:https://roemermooijman.nl/agenda-item/the-saints-second-generation/
LOCATION:De Taveerne\, Wormerveer
CATEGORIES:competitie,dbzp,team
END:VEVENT
BEGIN:VEVENT
DTSTART;TZID=Europe/Amsterdam:20180701T100000
DTEND;TZID=Europe/Amsterdam:20180701T190000
DTSTAMP:20260419T214454
CREATED:20180523T062059Z
LAST-MODIFIED:20180523T062059Z
UID:1241-1530439200-1530471600@roemermooijman.nl
SUMMARY:Nederlandse Kampioenschappen Eredivisie
DESCRIPTION:Nationale finaledag\, waaraan de kampioenen van de eredivisie van alle bonden deelnemen.
URL:https://roemermooijman.nl/agenda-item/nederlandse-kampioenschappen-eredivisie-2/
LOCATION:Sporthal Corlaer\, Nijkerk\, Nederland
CATEGORIES:competitie,team,toernooi
END:VEVENT
BEGIN:VEVENT
DTSTART;TZID=Europe/Amsterdam:20180610T100000
DTEND;TZID=Europe/Amsterdam:20180610T190000
DTSTAMP:20260419T214454
CREATED:20180523T061914Z
LAST-MODIFIED:20180523T061914Z
UID:1239-1528624800-1528657200@roemermooijman.nl
SUMMARY:Nederlandse Bekerkampioenschappen
DESCRIPTION:Nationaal teamtoernooi waarheen de bekerwinnaars van de verschillende bonden afgevaardigd worden.
URL:https://roemermooijman.nl/agenda-item/nederlandse-bekerkampioenschappen/
LOCATION:Sporthal Corlaer\, Nijkerk\, Nederland
CATEGORIES:beker,team,toernooi
END:VEVENT
BEGIN:VEVENT
DTSTART;TZID=Europe/Amsterdam:20180609T130000
DTEND;TZID=Europe/Amsterdam:20180609T180000
DTSTAMP:20260419T214454
CREATED:20170901T104056Z
LAST-MODIFIED:20170901T104056Z
UID:1049-1528549200-1528567200@roemermooijman.nl
SUMMARY:Team Sonny's Darts - Taveerne
DESCRIPTION:Wedstrijd in overgangsklasse C van de Superleague
URL:https://roemermooijman.nl/agenda-item/team-sonnys-darts-taveerne/
CATEGORIES:superleague,team
END:VEVENT
BEGIN:VEVENT
DTSTART;TZID=Europe/Amsterdam:20180526T080000
DTEND;TZID=Europe/Amsterdam:20180526T170000
DTSTAMP:20260419T214454
CREATED:20170901T103550Z
LAST-MODIFIED:20170901T103550Z
UID:1047-1527321600-1527354000@roemermooijman.nl
SUMMARY:Taveerne - 't Pleintje Stampersgat
DESCRIPTION:Wedstrijd in overgangsklasse C van de Superleague
URL:https://roemermooijman.nl/agenda-item/taveerne-t-pleintje-stampersgat/
LOCATION:De Taveerne\, Wormerveer
CATEGORIES:superleague,team
END:VEVENT
BEGIN:VEVENT
DTSTART;TZID=Europe/Amsterdam:20180524T200000
DTEND;TZID=Europe/Amsterdam:20180524T233000
DTSTAMP:20260419T214454
CREATED:20170904T092416Z
LAST-MODIFIED:20170904T092416Z
UID:1103-1527192000-1527204600@roemermooijman.nl
SUMMARY:De Tegenstander - Softtippers
DESCRIPTION:Wedstrijd in de eredivisie van de Darts Organisatie Noord-Holland Noord
URL:https://roemermooijman.nl/agenda-item/de-tegenstander-softtippers/
LOCATION:Café de Hoek\, Wervershoof
CATEGORIES:competitie,donhn,team
END:VEVENT
BEGIN:VEVENT
DTSTART;TZID=Europe/Amsterdam:20180523T200000
DTEND;TZID=Europe/Amsterdam:20180523T230000
DTSTAMP:20260419T214454
CREATED:20180523T061242Z
LAST-MODIFIED:20180523T061242Z
UID:1234-1527105600-1527116400@roemermooijman.nl
SUMMARY:Second Generation - De Taveerne
DESCRIPTION:Laatste wedstrijd in de DBZP competitie
URL:https://roemermooijman.nl/agenda-item/second-generation-taveerne/
LOCATION:De Taveerne\, Wormerveer
CATEGORIES:competitie,dbzp,team
END:VEVENT
BEGIN:VEVENT
DTSTART;TZID=Europe/Amsterdam:20180518T200000
DTEND;TZID=Europe/Amsterdam:20180518T233000
DTSTAMP:20260419T214454
CREATED:20170904T092211Z
LAST-MODIFIED:20170904T092211Z
UID:1101-1526673600-1526686200@roemermooijman.nl
SUMMARY:Powerdarts - De Tegenstander
DESCRIPTION:Wedstrijd in de eredivisie van de Darts Organisatie Noord-Holland Noord
URL:https://roemermooijman.nl/agenda-item/powerdarts-de-tegenstander-2/
LOCATION:Café Het Begin\, Alkmaar
CATEGORIES:competitie,donhn,team
END:VEVENT
BEGIN:VEVENT
DTSTART;TZID=Europe/Amsterdam:20180505T130000
DTEND;TZID=Europe/Amsterdam:20180505T180000
DTSTAMP:20260419T214454
CREATED:20170901T103435Z
LAST-MODIFIED:20170901T103435Z
UID:1044-1525525200-1525543200@roemermooijman.nl
SUMMARY:Makkers van Marktzicht - Taveerne
DESCRIPTION:Wedstrijd in overgangsklasse C van de Superleague
URL:https://roemermooijman.nl/agenda-item/makkers-marktzicht-taveerne/
LOCATION:Marktzicht Nunspeet\, Nunspeet
CATEGORIES:superleague,team
END:VEVENT
BEGIN:VEVENT
DTSTART;TZID=Europe/Amsterdam:20180426T200000
DTEND;TZID=Europe/Amsterdam:20180426T233000
DTSTAMP:20260419T214454
CREATED:20170904T092003Z
LAST-MODIFIED:20170904T092003Z
UID:1099-1524772800-1524785400@roemermooijman.nl
SUMMARY:Lords of the Boards - De Tegenstander
DESCRIPTION:Wedstrijd in de eredivisie van de Darts Organisatie Noord-Holland Noord
URL:https://roemermooijman.nl/agenda-item/lords-the-boards-tegenstander/
LOCATION:Café d’Ontmoeting\, De Goorn
CATEGORIES:competitie,donhn,team
END:VEVENT
BEGIN:VEVENT
DTSTART;TZID=Europe/Amsterdam:20180421T130000
DTEND;TZID=Europe/Amsterdam:20180421T180000
DTSTAMP:20260419T214454
CREATED:20170901T103159Z
LAST-MODIFIED:20170901T103159Z
UID:1042-1524315600-1524333600@roemermooijman.nl
SUMMARY:Taveerne - Agnes en Schier Barendrecht
DESCRIPTION:Wedstrijd in overgangsklasse C van de Superleague
URL:https://roemermooijman.nl/agenda-item/taveerne-agnes-en-schier-barendrecht/
LOCATION:De Taveerne\, Wormerveer
CATEGORIES:superleague,team
END:VEVENT
END:VCALENDAR