BEGIN:VCALENDAR
VERSION:2.0
PRODID:-//Roemer Mooijman - ECPv6.15.17.1//NONSGML v1.0//EN
CALSCALE:GREGORIAN
METHOD:PUBLISH
X-ORIGINAL-URL:https://roemermooijman.nl
X-WR-CALDESC:Evenementen voor Roemer Mooijman
REFRESH-INTERVAL;VALUE=DURATION:PT1H
X-Robots-Tag:noindex
X-PUBLISHED-TTL:PT1H
BEGIN:VTIMEZONE
TZID:Europe/Amsterdam
BEGIN:DAYLIGHT
TZOFFSETFROM:+0100
TZOFFSETTO:+0200
TZNAME:CEST
DTSTART:20160327T010000
END:DAYLIGHT
BEGIN:STANDARD
TZOFFSETFROM:+0200
TZOFFSETTO:+0100
TZNAME:CET
DTSTART:20161030T010000
END:STANDARD
BEGIN:DAYLIGHT
TZOFFSETFROM:+0100
TZOFFSETTO:+0200
TZNAME:CEST
DTSTART:20170326T010000
END:DAYLIGHT
BEGIN:STANDARD
TZOFFSETFROM:+0200
TZOFFSETTO:+0100
TZNAME:CET
DTSTART:20171029T010000
END:STANDARD
BEGIN:DAYLIGHT
TZOFFSETFROM:+0100
TZOFFSETTO:+0200
TZNAME:CEST
DTSTART:20180325T010000
END:DAYLIGHT
BEGIN:STANDARD
TZOFFSETFROM:+0200
TZOFFSETTO:+0100
TZNAME:CET
DTSTART:20181028T010000
END:STANDARD
END:VTIMEZONE
BEGIN:VEVENT
DTSTART;TZID=Europe/Amsterdam:20170330T200000
DTEND;TZID=Europe/Amsterdam:20170330T235900
DTSTAMP:20260422T124022
CREATED:20170328T182437Z
LAST-MODIFIED:20170328T182437Z
UID:683-1490904000-1490918340@roemermooijman.nl
SUMMARY:Coco Bar - De Tegenstander
DESCRIPTION:Wedstrijd bij de laatste 16 van het bekertoernooi van de DONHN.
URL:https://roemermooijman.nl/agenda-item/coco-bar-tegenstander/
LOCATION:Coco Bar\, Warmenhuizen
CATEGORIES:beker,donhn,team
ATTACH;FMTTYPE=image/jpeg:https://roemermooijman.nl/wp-content/uploads/2017/03/DONHN_logo.jpg
END:VEVENT
BEGIN:VEVENT
DTSTART;TZID=Europe/Amsterdam:20170320T200000
DTEND;TZID=Europe/Amsterdam:20170320T233000
DTSTAMP:20260422T124022
CREATED:20170313T080858Z
LAST-MODIFIED:20170313T080858Z
UID:571-1490040000-1490052600@roemermooijman.nl
SUMMARY:The Maffioso's - De Tegenstander
DESCRIPTION:Competitiewedstrijd in de eredivisie van de Darts Organisatie Noord-Holland Noord
URL:https://roemermooijman.nl/agenda-item/the-maffiosos-tegenstander/
LOCATION:Sportcafé Zwaag
CATEGORIES:competitie,donhn,team
END:VEVENT
BEGIN:VEVENT
DTSTART;TZID=Europe/Amsterdam:20170317T200000
DTEND;TZID=Europe/Amsterdam:20170317T233000
DTSTAMP:20260422T124022
CREATED:20170313T074841Z
LAST-MODIFIED:20170313T074841Z
UID:559-1489780800-1489793400@roemermooijman.nl
SUMMARY:Bullshit - De Tegenstander
DESCRIPTION:Competitiewedstrijd in de eredivisie van de Darts Organisatie Noord-Holland Noord.
URL:https://roemermooijman.nl/agenda-item/bullshit-de-tegenstander/
LOCATION:De Roode Leeuw
CATEGORIES:competitie,donhn,team
END:VEVENT
END:VCALENDAR