BEGIN:VCALENDAR
VERSION:2.0
PRODID:-//Roemer Mooijman - ECPv6.15.17.1//NONSGML v1.0//EN
CALSCALE:GREGORIAN
METHOD:PUBLISH
X-ORIGINAL-URL:https://roemermooijman.nl
X-WR-CALDESC:Evenementen voor Roemer Mooijman
REFRESH-INTERVAL;VALUE=DURATION:PT1H
X-Robots-Tag:noindex
X-PUBLISHED-TTL:PT1H
BEGIN:VTIMEZONE
TZID:Europe/Amsterdam
BEGIN:DAYLIGHT
TZOFFSETFROM:+0100
TZOFFSETTO:+0200
TZNAME:CEST
DTSTART:20160327T010000
END:DAYLIGHT
BEGIN:STANDARD
TZOFFSETFROM:+0200
TZOFFSETTO:+0100
TZNAME:CET
DTSTART:20161030T010000
END:STANDARD
BEGIN:DAYLIGHT
TZOFFSETFROM:+0100
TZOFFSETTO:+0200
TZNAME:CEST
DTSTART:20170326T010000
END:DAYLIGHT
BEGIN:STANDARD
TZOFFSETFROM:+0200
TZOFFSETTO:+0100
TZNAME:CET
DTSTART:20171029T010000
END:STANDARD
BEGIN:DAYLIGHT
TZOFFSETFROM:+0100
TZOFFSETTO:+0200
TZNAME:CEST
DTSTART:20180325T010000
END:DAYLIGHT
BEGIN:STANDARD
TZOFFSETFROM:+0200
TZOFFSETTO:+0100
TZNAME:CET
DTSTART:20181028T010000
END:STANDARD
END:VTIMEZONE
BEGIN:VEVENT
DTSTART;TZID=Europe/Amsterdam:20170519T200000
DTEND;TZID=Europe/Amsterdam:20170519T235900
DTSTAMP:20260420T104924
CREATED:20170508T072634Z
LAST-MODIFIED:20170508T072634Z
UID:791-1495224000-1495238340@roemermooijman.nl
SUMMARY:Dirty Jobzz Nieuwegein - De Tegenstander
DESCRIPTION:Wedstrijd in de kwartfinale van de NDB Teamcup
URL:https://roemermooijman.nl/agenda-item/dirty-jobzz-nieuwegein-tegenstander/
CATEGORIES:ndb teamcup,team
END:VEVENT
BEGIN:VEVENT
DTSTART;TZID=Europe/Amsterdam:20170511T200000
DTEND;TZID=Europe/Amsterdam:20170511T235900
DTSTAMP:20260420T104924
CREATED:20170410T104930Z
LAST-MODIFIED:20170410T104930Z
UID:725-1494532800-1494547140@roemermooijman.nl
SUMMARY:De Tegenstander - Lange Jan
DESCRIPTION:Wedstrijd in de eredivisie van de DONHN
URL:https://roemermooijman.nl/agenda-item/tegenstander-lange-jan/
LOCATION:Café de Hoek\, Wervershoof
CATEGORIES:competitie,donhn,team
ATTACH;FMTTYPE=image/jpeg:https://roemermooijman.nl/wp-content/uploads/2017/03/DONHN_logo.jpg
END:VEVENT
BEGIN:VEVENT
DTSTART;TZID=Europe/Amsterdam:20170506T130000
DTEND;TZID=Europe/Amsterdam:20170506T180000
DTSTAMP:20260420T104924
CREATED:20170410T105900Z
LAST-MODIFIED:20170429T152242Z
UID:729-1494075600-1494093600@roemermooijman.nl
SUMMARY:Sonnys Darts - Taveerne
DESCRIPTION:Wedstrijd in overgangsklasse C van de SuperLeague
URL:https://roemermooijman.nl/agenda-item/sonnys-darts-taveerne/
CATEGORIES:superleague,team
ATTACH;FMTTYPE=image/jpeg:https://roemermooijman.nl/wp-content/uploads/2017/03/superleague_logo.jpg
END:VEVENT
BEGIN:VEVENT
DTSTART;TZID=Europe/Amsterdam:20170422T130000
DTEND;TZID=Europe/Amsterdam:20170422T180000
DTSTAMP:20260420T104924
CREATED:20170410T105511Z
LAST-MODIFIED:20170410T105511Z
UID:727-1492866000-1492884000@roemermooijman.nl
SUMMARY:Taveerne - De Walrus
DESCRIPTION:Wedstrijd in de overgangsklasse C van de SuperLeague
URL:https://roemermooijman.nl/agenda-item/taveerne-de-walrus/
LOCATION:De Taveerne\, Wormerveer
CATEGORIES:superleague,team
ATTACH;FMTTYPE=image/jpeg:https://roemermooijman.nl/wp-content/uploads/2017/03/superleague_logo.jpg
END:VEVENT
BEGIN:VEVENT
DTSTART;TZID=Europe/Amsterdam:20170420T200000
DTEND;TZID=Europe/Amsterdam:20170420T235900
DTSTAMP:20260420T104924
CREATED:20170410T104611Z
LAST-MODIFIED:20170410T104611Z
UID:723-1492718400-1492732740@roemermooijman.nl
SUMMARY:De Tegenstander - De Roos
DESCRIPTION:Wedstrijd in de kwartfinale van het DONHN bekertoernooi
URL:https://roemermooijman.nl/agenda-item/de-tegenstander-de-roos/
LOCATION:Café de Hoek\, Wervershoof
CATEGORIES:beker,donhn,team
ATTACH;FMTTYPE=image/jpeg:https://roemermooijman.nl/wp-content/uploads/2017/03/DONHN_logo.jpg
END:VEVENT
BEGIN:VEVENT
DTSTART;TZID=Europe/Amsterdam:20170418T200000
DTEND;TZID=Europe/Amsterdam:20170418T235900
DTSTAMP:20260420T104924
CREATED:20170412T181315Z
LAST-MODIFIED:20170412T181315Z
UID:731-1492545600-1492559940@roemermooijman.nl
SUMMARY:De Tegenstander - Mission Impossible
DESCRIPTION:Wedstrijd in de eerste ronde van de NDB Teamcup Gold
URL:https://roemermooijman.nl/agenda-item/tegenstander-mission-impossible/
LOCATION:Café de Hoek\, Wervershoof
CATEGORIES:ndb teamcup,team
ATTACH;FMTTYPE=image/jpeg:https://roemermooijman.nl/wp-content/uploads/2017/04/ndb_teamcup.jpg
END:VEVENT
BEGIN:VEVENT
DTSTART;TZID=Europe/Amsterdam:20170414T200000
DTEND;TZID=Europe/Amsterdam:20170414T235900
DTSTAMP:20260420T104924
CREATED:20170331T114329Z
LAST-MODIFIED:20170331T114329Z
UID:706-1492200000-1492214340@roemermooijman.nl
SUMMARY:Powerdarts - De Tegenstander
DESCRIPTION:Wedstrijd in de eredivisie van Darts Organisatie Noord-Holland Noord
URL:https://roemermooijman.nl/agenda-item/powerdarts-de-tegenstander/
LOCATION:Café Het Begin\, Alkmaar
CATEGORIES:competitie,donhn,team
ATTACH;FMTTYPE=image/jpeg:https://roemermooijman.nl/wp-content/uploads/2017/03/DONHN_logo.jpg
END:VEVENT
BEGIN:VEVENT
DTSTART;TZID=Europe/Amsterdam:20170406T200000
DTEND;TZID=Europe/Amsterdam:20170406T233000
DTSTAMP:20260420T104924
CREATED:20170314T090912Z
LAST-MODIFIED:20170314T091326Z
UID:591-1491508800-1491521400@roemermooijman.nl
SUMMARY:De Tegenstander - Alibi 1
DESCRIPTION:Wedstrijd in de eredivisie van Darts Organisatie Noord-Holland Noord
URL:https://roemermooijman.nl/agenda-item/tegenstander-alibi-1/
LOCATION:Café de Hoek\, Wervershoof
CATEGORIES:competitie,donhn,team
ATTACH;FMTTYPE=image/jpeg:https://roemermooijman.nl/wp-content/uploads/2017/03/DONHN_logo.jpg
END:VEVENT
BEGIN:VEVENT
DTSTART;TZID=Europe/Amsterdam:20170401T130000
DTEND;TZID=Europe/Amsterdam:20170401T180000
DTSTAMP:20260420T104924
CREATED:20170313T081336Z
LAST-MODIFIED:20170314T091421Z
UID:574-1491051600-1491069600@roemermooijman.nl
SUMMARY:Taveerne - Team Prima Darts
DESCRIPTION:Superleague wedstrijd in Overgangsklasse C van de Nederlandse Darts Bond
URL:https://roemermooijman.nl/agenda-item/taveerne-team-prima-darts/
LOCATION:De Taveerne\, Wormerveer
CATEGORIES:competitie,superleague,team
ATTACH;FMTTYPE=image/jpeg:https://roemermooijman.nl/wp-content/uploads/2017/03/superleague_logo.jpg
END:VEVENT
BEGIN:VEVENT
DTSTART;TZID=Europe/Amsterdam:20170331T203000
DTEND;TZID=Europe/Amsterdam:20170331T235900
DTSTAMP:20260420T104924
CREATED:20170331T090739Z
LAST-MODIFIED:20170331T090739Z
UID:702-1490992200-1491004740@roemermooijman.nl
SUMMARY:Blue Gamblers 3 - Second Generation
DESCRIPTION:Wedstrijd in de eredivisie van de DBZP.
URL:https://roemermooijman.nl/agenda-item/blue-gamblers-3-second-generation/
LOCATION:De Blauwe Lantaarn\, Zaandam
CATEGORIES:competitie,dbzp,team
END:VEVENT
BEGIN:VEVENT
DTSTART;TZID=Europe/Amsterdam:20170330T200000
DTEND;TZID=Europe/Amsterdam:20170330T235900
DTSTAMP:20260420T104924
CREATED:20170328T182437Z
LAST-MODIFIED:20170328T182437Z
UID:683-1490904000-1490918340@roemermooijman.nl
SUMMARY:Coco Bar - De Tegenstander
DESCRIPTION:Wedstrijd bij de laatste 16 van het bekertoernooi van de DONHN.
URL:https://roemermooijman.nl/agenda-item/coco-bar-tegenstander/
LOCATION:Coco Bar\, Warmenhuizen
CATEGORIES:beker,donhn,team
ATTACH;FMTTYPE=image/jpeg:https://roemermooijman.nl/wp-content/uploads/2017/03/DONHN_logo.jpg
END:VEVENT
BEGIN:VEVENT
DTSTART;TZID=Europe/Amsterdam:20170320T200000
DTEND;TZID=Europe/Amsterdam:20170320T233000
DTSTAMP:20260420T104924
CREATED:20170313T080858Z
LAST-MODIFIED:20170313T080858Z
UID:571-1490040000-1490052600@roemermooijman.nl
SUMMARY:The Maffioso's - De Tegenstander
DESCRIPTION:Competitiewedstrijd in de eredivisie van de Darts Organisatie Noord-Holland Noord
URL:https://roemermooijman.nl/agenda-item/the-maffiosos-tegenstander/
LOCATION:Sportcafé Zwaag
CATEGORIES:competitie,donhn,team
END:VEVENT
BEGIN:VEVENT
DTSTART;TZID=Europe/Amsterdam:20170317T200000
DTEND;TZID=Europe/Amsterdam:20170317T233000
DTSTAMP:20260420T104924
CREATED:20170313T074841Z
LAST-MODIFIED:20170313T074841Z
UID:559-1489780800-1489793400@roemermooijman.nl
SUMMARY:Bullshit - De Tegenstander
DESCRIPTION:Competitiewedstrijd in de eredivisie van de Darts Organisatie Noord-Holland Noord.
URL:https://roemermooijman.nl/agenda-item/bullshit-de-tegenstander/
LOCATION:De Roode Leeuw
CATEGORIES:competitie,donhn,team
END:VEVENT
END:VCALENDAR