BEGIN:VCALENDAR
VERSION:2.0
PRODID:-//Roemer Mooijman - ECPv6.15.17.1//NONSGML v1.0//EN
CALSCALE:GREGORIAN
METHOD:PUBLISH
X-ORIGINAL-URL:https://roemermooijman.nl
X-WR-CALDESC:Evenementen voor Roemer Mooijman
REFRESH-INTERVAL;VALUE=DURATION:PT1H
X-Robots-Tag:noindex
X-PUBLISHED-TTL:PT1H
BEGIN:VTIMEZONE
TZID:Europe/Amsterdam
BEGIN:DAYLIGHT
TZOFFSETFROM:+0100
TZOFFSETTO:+0200
TZNAME:CEST
DTSTART:20160327T010000
END:DAYLIGHT
BEGIN:STANDARD
TZOFFSETFROM:+0200
TZOFFSETTO:+0100
TZNAME:CET
DTSTART:20161030T010000
END:STANDARD
BEGIN:DAYLIGHT
TZOFFSETFROM:+0100
TZOFFSETTO:+0200
TZNAME:CEST
DTSTART:20170326T010000
END:DAYLIGHT
BEGIN:STANDARD
TZOFFSETFROM:+0200
TZOFFSETTO:+0100
TZNAME:CET
DTSTART:20171029T010000
END:STANDARD
BEGIN:DAYLIGHT
TZOFFSETFROM:+0100
TZOFFSETTO:+0200
TZNAME:CEST
DTSTART:20180325T010000
END:DAYLIGHT
BEGIN:STANDARD
TZOFFSETFROM:+0200
TZOFFSETTO:+0100
TZNAME:CET
DTSTART:20181028T010000
END:STANDARD
END:VTIMEZONE
BEGIN:VEVENT
DTSTART;TZID=Europe/Amsterdam:20170616T200000
DTEND;TZID=Europe/Amsterdam:20170616T235900
DTSTAMP:20260419T230043
CREATED:20170525T074839Z
LAST-MODIFIED:20170525T074839Z
UID:840-1497643200-1497657540@roemermooijman.nl
SUMMARY:Finaledag NDB Teamcup
DESCRIPTION:Wedstrijd in de halve finale en eventueel finale van de NDB Teamcup
URL:https://roemermooijman.nl/agenda-item/finaledag-ndb-teamcup/
LOCATION:Van der Valk Leusden
CATEGORIES:ndb teamcup,team
ATTACH;FMTTYPE=image/jpeg:https://roemermooijman.nl/wp-content/uploads/2017/04/ndb_teamcup.jpg
END:VEVENT
BEGIN:VEVENT
DTSTART;TZID=Europe/Amsterdam:20170519T200000
DTEND;TZID=Europe/Amsterdam:20170519T235900
DTSTAMP:20260419T230043
CREATED:20170508T072634Z
LAST-MODIFIED:20170508T072634Z
UID:791-1495224000-1495238340@roemermooijman.nl
SUMMARY:Dirty Jobzz Nieuwegein - De Tegenstander
DESCRIPTION:Wedstrijd in de kwartfinale van de NDB Teamcup
URL:https://roemermooijman.nl/agenda-item/dirty-jobzz-nieuwegein-tegenstander/
CATEGORIES:ndb teamcup,team
END:VEVENT
BEGIN:VEVENT
DTSTART;TZID=Europe/Amsterdam:20170418T200000
DTEND;TZID=Europe/Amsterdam:20170418T235900
DTSTAMP:20260419T230043
CREATED:20170412T181315Z
LAST-MODIFIED:20170412T181315Z
UID:731-1492545600-1492559940@roemermooijman.nl
SUMMARY:De Tegenstander - Mission Impossible
DESCRIPTION:Wedstrijd in de eerste ronde van de NDB Teamcup Gold
URL:https://roemermooijman.nl/agenda-item/tegenstander-mission-impossible/
LOCATION:Café de Hoek\, Wervershoof
CATEGORIES:ndb teamcup,team
ATTACH;FMTTYPE=image/jpeg:https://roemermooijman.nl/wp-content/uploads/2017/04/ndb_teamcup.jpg
END:VEVENT
END:VCALENDAR