BEGIN:VCALENDAR
VERSION:2.0
PRODID:-//Roemer Mooijman - ECPv6.15.17.1//NONSGML v1.0//EN
CALSCALE:GREGORIAN
METHOD:PUBLISH
X-WR-CALNAME:Roemer Mooijman
X-ORIGINAL-URL:https://roemermooijman.nl
X-WR-CALDESC:Evenementen voor Roemer Mooijman
REFRESH-INTERVAL;VALUE=DURATION:PT1H
X-Robots-Tag:noindex
X-PUBLISHED-TTL:PT1H
BEGIN:VTIMEZONE
TZID:Europe/Amsterdam
BEGIN:DAYLIGHT
TZOFFSETFROM:+0100
TZOFFSETTO:+0200
TZNAME:CEST
DTSTART:20160327T010000
END:DAYLIGHT
BEGIN:STANDARD
TZOFFSETFROM:+0200
TZOFFSETTO:+0100
TZNAME:CET
DTSTART:20161030T010000
END:STANDARD
BEGIN:DAYLIGHT
TZOFFSETFROM:+0100
TZOFFSETTO:+0200
TZNAME:CEST
DTSTART:20170326T010000
END:DAYLIGHT
BEGIN:STANDARD
TZOFFSETFROM:+0200
TZOFFSETTO:+0100
TZNAME:CET
DTSTART:20171029T010000
END:STANDARD
BEGIN:DAYLIGHT
TZOFFSETFROM:+0100
TZOFFSETTO:+0200
TZNAME:CEST
DTSTART:20180325T010000
END:DAYLIGHT
BEGIN:STANDARD
TZOFFSETFROM:+0200
TZOFFSETTO:+0100
TZNAME:CET
DTSTART:20181028T010000
END:STANDARD
END:VTIMEZONE
BEGIN:VEVENT
DTSTART;VALUE=DATE:20170805
DTEND;VALUE=DATE:20170807
DTSTAMP:20260419T233047
CREATED:20170707T101333Z
LAST-MODIFIED:20170707T110826Z
UID:933-1501891200-1502063999@roemermooijman.nl
SUMMARY:Open België
DESCRIPTION:BDO-toernooi meetellend voor de wereldranglijst. Bestaat uit twee singletoernooien\, een op zaterdag en een op zondag.
URL:https://roemermooijman.nl/agenda-item/open-belgie/
LOCATION:Belgica Loods\, Antwerpen\, Thonetlaan 133\, Antwerpen\, België
CATEGORIES:internationaal,single,toernooi
ATTACH;FMTTYPE=image/png:https://roemermooijman.nl/wp-content/uploads/2017/03/bdo_logo.png
END:VEVENT
BEGIN:VEVENT
DTSTART;VALUE=DATE:20170415
DTEND;VALUE=DATE:20170417
DTSTAMP:20260419T233047
CREATED:20170331T115042Z
LAST-MODIFIED:20170331T115042Z
UID:709-1492214400-1492387199@roemermooijman.nl
SUMMARY:Bruges Belfry Darts
DESCRIPTION:Internationaal evenement\, gehouden in Brugge. Bestaat uit 2 single toernooien\, meetellend voor de BDO-ranking
URL:https://roemermooijman.nl/agenda-item/bruges-belfry-darts/
LOCATION:Belfort\, Brugge
CATEGORIES:internationaal,single,toernooi
ATTACH;FMTTYPE=image/png:https://roemermooijman.nl/wp-content/uploads/2017/03/bdo_logo.png
END:VEVENT
BEGIN:VEVENT
DTSTART;VALUE=DATE:20170408
DTEND;VALUE=DATE:20170410
DTSTAMP:20260419T233047
CREATED:20170328T182823Z
LAST-MODIFIED:20170331T092152Z
UID:686-1491609600-1491782399@roemermooijman.nl
SUMMARY:German Open
DESCRIPTION:Het Open Duitsland\, een internationaal toernooi bestaande uit twee afzonderlijke single toernooien op zaterdag en zondag. Het toernooi wordt gespeeld in Bochum.
URL:https://roemermooijman.nl/agenda-item/german-open/
LOCATION:Festplatz Castroper Straße\, Bochum\, Duitsland
CATEGORIES:internationaal,single,toernooi
ATTACH;FMTTYPE=image/png:https://roemermooijman.nl/wp-content/uploads/2017/03/bdo_logo.png
END:VEVENT
BEGIN:VEVENT
DTSTART;TZID=Europe/Amsterdam:20170318T100000
DTEND;TZID=Europe/Amsterdam:20170319T180000
DTSTAMP:20260419T233047
CREATED:20170313T075743Z
LAST-MODIFIED:20170314T091515Z
UID:563-1489831200-1489946400@roemermooijman.nl
SUMMARY:HAL Open/Masters
DESCRIPTION:Internationaal toernooi\, gespeeld in Venray. Op zaterdag en zondag worden afzonderlijke single toernooien gespeeld\, meetellend voor de BDO-ranking.
URL:https://roemermooijman.nl/agenda-item/hal-open/
LOCATION:Evenementenhal Venray
CATEGORIES:internationaal,single,toernooi
ATTACH;FMTTYPE=image/png:https://roemermooijman.nl/wp-content/uploads/2017/03/bdo_logo.png
END:VEVENT
END:VCALENDAR