BEGIN:VCALENDAR
VERSION:2.0
PRODID:-//Roemer Mooijman - ECPv6.15.17.1//NONSGML v1.0//EN
CALSCALE:GREGORIAN
METHOD:PUBLISH
X-ORIGINAL-URL:https://roemermooijman.nl
X-WR-CALDESC:Evenementen voor Roemer Mooijman
REFRESH-INTERVAL;VALUE=DURATION:PT1H
X-Robots-Tag:noindex
X-PUBLISHED-TTL:PT1H
BEGIN:VTIMEZONE
TZID:Europe/Amsterdam
BEGIN:DAYLIGHT
TZOFFSETFROM:+0100
TZOFFSETTO:+0200
TZNAME:CEST
DTSTART:20180325T010000
END:DAYLIGHT
BEGIN:STANDARD
TZOFFSETFROM:+0200
TZOFFSETTO:+0100
TZNAME:CET
DTSTART:20181028T010000
END:STANDARD
BEGIN:DAYLIGHT
TZOFFSETFROM:+0100
TZOFFSETTO:+0200
TZNAME:CEST
DTSTART:20190331T010000
END:DAYLIGHT
BEGIN:STANDARD
TZOFFSETFROM:+0200
TZOFFSETTO:+0100
TZNAME:CET
DTSTART:20191027T010000
END:STANDARD
BEGIN:DAYLIGHT
TZOFFSETFROM:+0100
TZOFFSETTO:+0200
TZNAME:CEST
DTSTART:20200329T010000
END:DAYLIGHT
BEGIN:STANDARD
TZOFFSETFROM:+0200
TZOFFSETTO:+0100
TZNAME:CET
DTSTART:20201025T010000
END:STANDARD
BEGIN:DAYLIGHT
TZOFFSETFROM:+0100
TZOFFSETTO:+0200
TZNAME:CEST
DTSTART:20210328T010000
END:DAYLIGHT
BEGIN:STANDARD
TZOFFSETFROM:+0200
TZOFFSETTO:+0100
TZNAME:CET
DTSTART:20211031T010000
END:STANDARD
BEGIN:DAYLIGHT
TZOFFSETFROM:+0100
TZOFFSETTO:+0200
TZNAME:CEST
DTSTART:20220327T010000
END:DAYLIGHT
BEGIN:STANDARD
TZOFFSETFROM:+0200
TZOFFSETTO:+0100
TZNAME:CET
DTSTART:20221030T010000
END:STANDARD
END:VTIMEZONE
BEGIN:VEVENT
DTSTART;TZID=Europe/Amsterdam:20211008T200000
DTEND;TZID=Europe/Amsterdam:20211008T233000
DTSTAMP:20260419T183319
CREATED:20210929T145754Z
LAST-MODIFIED:20210929T145754Z
UID:2330-1633723200-1633735800@roemermooijman.nl
SUMMARY:De Roos - De Tegenstander
DESCRIPTION:Wedstrijd in de eredivisie van de Darts Organisatie Noord-Holland-Noord (DONHN)
URL:https://roemermooijman.nl/agenda-item/de-roos-de-tegenstander-3/
LOCATION:Café de Roos\, Lindenlaan 1\, Alkmaar
CATEGORIES:competitie,donhn,team
ATTACH;FMTTYPE=image/jpeg:https://roemermooijman.nl/wp-content/uploads/2017/03/DONHN_logo.jpg
END:VEVENT
BEGIN:VEVENT
DTSTART;TZID=Europe/Amsterdam:20210930T200000
DTEND;TZID=Europe/Amsterdam:20210930T233000
DTSTAMP:20260419T183319
CREATED:20210929T144218Z
LAST-MODIFIED:20210929T144218Z
UID:2318-1633032000-1633044600@roemermooijman.nl
SUMMARY:De Tegenstander - De Paus Softtippers
DESCRIPTION:Wedstrijd in de eredivisie van de Darts Organisatie Noord-Holland-Noord (DONHN)
URL:https://roemermooijman.nl/agenda-item/de-tegenstander-de-paus-softtippers/
LOCATION:Wijkvereniging De Link\, Standerdmolen 8-A\, Heerhugowaard\, Noord-Holland\, 1703NK\, Nederland
CATEGORIES:competitie,donhn,team
ATTACH;FMTTYPE=image/jpeg:https://roemermooijman.nl/wp-content/uploads/2017/03/DONHN_logo.jpg
END:VEVENT
BEGIN:VEVENT
DTSTART;TZID=Europe/Amsterdam:20200514T200000
DTEND;TZID=Europe/Amsterdam:20200514T233000
DTSTAMP:20260419T183319
CREATED:20190830T111253Z
LAST-MODIFIED:20190830T111253Z
UID:1592-1589486400-1589499000@roemermooijman.nl
SUMMARY:De Tegenstander - Beste Beentjes voor 2
DESCRIPTION:Wedstrijd in de eredivisie van de DONHN
URL:https://roemermooijman.nl/agenda-item/de-tegenstander-beste-beentjes-voor-2/
LOCATION:Wijkvereniging De Link\, Standerdmolen 8-A\, Heerhugowaard\, Noord-Holland\, 1703NK\, Nederland
CATEGORIES:competitie,donhn,team
END:VEVENT
BEGIN:VEVENT
DTSTART;TZID=Europe/Amsterdam:20200422T200000
DTEND;TZID=Europe/Amsterdam:20200422T233000
DTSTAMP:20260419T183319
CREATED:20190830T111149Z
LAST-MODIFIED:20190830T111149Z
UID:1589-1587585600-1587598200@roemermooijman.nl
SUMMARY:Bij de Buren - De Tegenstander
DESCRIPTION:Wedstrijd in de eredivisie van de DONHN
URL:https://roemermooijman.nl/agenda-item/bij-de-buren-de-tegenstander/
LOCATION:Café Bij de Buren\, Brinkweg 15\, Wieringerwerf\, Noord-Holland\, 1771CN\, Nederland
CATEGORIES:competitie,donhn,team
END:VEVENT
BEGIN:VEVENT
DTSTART;TZID=Europe/Amsterdam:20200416T200000
DTEND;TZID=Europe/Amsterdam:20200416T233000
DTSTAMP:20260419T183319
CREATED:20190830T111011Z
LAST-MODIFIED:20190830T111011Z
UID:1587-1587067200-1587079800@roemermooijman.nl
SUMMARY:De Tegenstander - De Paus
DESCRIPTION:Wedstrijd in de eredivisie van de DONHN
URL:https://roemermooijman.nl/agenda-item/de-tegenstander-de-paus/
LOCATION:Wijkvereniging De Link\, Standerdmolen 8-A\, Heerhugowaard\, Noord-Holland\, 1703NK\, Nederland
CATEGORIES:competitie,donhn,team
END:VEVENT
BEGIN:VEVENT
DTSTART;TZID=Europe/Amsterdam:20200409T200000
DTEND;TZID=Europe/Amsterdam:20200409T233000
DTSTAMP:20260419T183319
CREATED:20190830T110826Z
LAST-MODIFIED:20190830T110826Z
UID:1585-1586462400-1586475000@roemermooijman.nl
SUMMARY:Lange Jan - De Tegenstander
DESCRIPTION:Wedstrijd in de eredivisie van de DONHN
URL:https://roemermooijman.nl/agenda-item/lange-jan-de-tegenstander/
LOCATION:Café Lange Jan\, Enkhuizen
CATEGORIES:competitie,donhn,team
END:VEVENT
BEGIN:VEVENT
DTSTART;TZID=Europe/Amsterdam:20200325T200000
DTEND;TZID=Europe/Amsterdam:20200325T233000
DTSTAMP:20260419T183319
CREATED:20190830T110715Z
LAST-MODIFIED:20190830T110715Z
UID:1582-1585166400-1585179000@roemermooijman.nl
SUMMARY:Obdam United - De Tegenstander
DESCRIPTION:Wedstrijd in de eredivisie van de DONHN
URL:https://roemermooijman.nl/agenda-item/obdam-united-de-tegenstander/
LOCATION:Nelly’s Café\, Dorpstraat 152\, Obdam\, Noord-Holland\, 1713HM\, Nederland
CATEGORIES:competitie,donhn,team
END:VEVENT
BEGIN:VEVENT
DTSTART;TZID=Europe/Amsterdam:20200319T200000
DTEND;TZID=Europe/Amsterdam:20200319T233000
DTSTAMP:20260419T183319
CREATED:20190830T110513Z
LAST-MODIFIED:20190830T110513Z
UID:1580-1584648000-1584660600@roemermooijman.nl
SUMMARY:De Tegenstander - de t'Happerij
DESCRIPTION:Wedstrijd in de eredivisie van de DONHN
URL:https://roemermooijman.nl/agenda-item/de-tegenstander-de-thapperij/
LOCATION:Wijkvereniging De Link\, Standerdmolen 8-A\, Heerhugowaard\, Noord-Holland\, 1703NK\, Nederland
CATEGORIES:competitie,donhn,team
END:VEVENT
BEGIN:VEVENT
DTSTART;TZID=Europe/Amsterdam:20200306T200000
DTEND;TZID=Europe/Amsterdam:20200306T233000
DTSTAMP:20260419T183319
CREATED:20190830T110419Z
LAST-MODIFIED:20190830T110419Z
UID:1578-1583524800-1583537400@roemermooijman.nl
SUMMARY:De Roos - De Tegenstander
DESCRIPTION:Wedstrijd in de eredivisie van de DONHN
URL:https://roemermooijman.nl/agenda-item/de-roos-de-tegenstander-2/
LOCATION:Café de Roos\, Lindenlaan 1\, Alkmaar
CATEGORIES:competitie,donhn,team
END:VEVENT
BEGIN:VEVENT
DTSTART;TZID=Europe/Amsterdam:20200227T200000
DTEND;TZID=Europe/Amsterdam:20200227T233000
DTSTAMP:20260419T183319
CREATED:20190830T110256Z
LAST-MODIFIED:20190830T110256Z
UID:1576-1582833600-1582846200@roemermooijman.nl
SUMMARY:De Tegenstander - Softtippers
DESCRIPTION:Wedstrijd in de eredivisie van de DONHN
URL:https://roemermooijman.nl/agenda-item/de-tegenstander-softtippers-2/
LOCATION:Wijkvereniging De Link\, Standerdmolen 8-A\, Heerhugowaard\, Noord-Holland\, 1703NK\, Nederland
CATEGORIES:competitie,donhn,team
END:VEVENT
BEGIN:VEVENT
DTSTART;TZID=Europe/Amsterdam:20200207T200000
DTEND;TZID=Europe/Amsterdam:20200207T233000
DTSTAMP:20260419T183319
CREATED:20190830T110153Z
LAST-MODIFIED:20190830T110153Z
UID:1573-1581105600-1581118200@roemermooijman.nl
SUMMARY:DV M.I.L.A. - De Tegenstander
DESCRIPTION:Wedstrijd in de eredivisie van de DONHN
URL:https://roemermooijman.nl/agenda-item/dv-m-i-l-a-de-tegenstander/
LOCATION:Sportcafé Niedorphal\, Hartweg 35\, Winkel\, Noord-Holland\, 1731LT\, Nederland
CATEGORIES:competitie,donhn,team
END:VEVENT
BEGIN:VEVENT
DTSTART;TZID=Europe/Amsterdam:20200123T200000
DTEND;TZID=Europe/Amsterdam:20200123T233000
DTSTAMP:20260419T183319
CREATED:20190830T103029Z
LAST-MODIFIED:20190830T103029Z
UID:1570-1579809600-1579822200@roemermooijman.nl
SUMMARY:De Tegenstander - Lords of the Boards
DESCRIPTION:Wedstrijd in de eredivisie van de DONHN
URL:https://roemermooijman.nl/agenda-item/de-tegenstander-lords-of-the-boards/
LOCATION:Wijkvereniging De Link\, Standerdmolen 8-A\, Heerhugowaard\, Noord-Holland\, 1703NK\, Nederland
CATEGORIES:competitie,donhn,team
END:VEVENT
BEGIN:VEVENT
DTSTART;TZID=Europe/Amsterdam:20200115T200000
DTEND;TZID=Europe/Amsterdam:20200115T233000
DTSTAMP:20260419T183319
CREATED:20190830T101707Z
LAST-MODIFIED:20190830T101707Z
UID:1568-1579118400-1579131000@roemermooijman.nl
SUMMARY:Sportcafé Zwaag - De Tegenstander
DESCRIPTION:Wedstrijd in de eredivisie van de DONHN
URL:https://roemermooijman.nl/agenda-item/sportcafe-zwaag-de-tegenstander-2/
LOCATION:Sportcafé Zwaag
CATEGORIES:competitie,donhn,team
END:VEVENT
BEGIN:VEVENT
DTSTART;TZID=Europe/Amsterdam:20200110T200000
DTEND;TZID=Europe/Amsterdam:20200110T233000
DTSTAMP:20260419T183319
CREATED:20190830T101538Z
LAST-MODIFIED:20190830T101538Z
UID:1565-1578686400-1578699000@roemermooijman.nl
SUMMARY:Beste Beentjes voor 2 - De Tegenstander
DESCRIPTION:Wedstrijd in de eredivisie van de DONHN
URL:https://roemermooijman.nl/agenda-item/beste-beentjes-voor-2-de-tegenstander/
LOCATION:Café Beentjes\, Dorpsstraat 88\, Winkel\, Noord-Holland\, 1731RJ\, Nederland
CATEGORIES:competitie,donhn,team
END:VEVENT
BEGIN:VEVENT
DTSTART;TZID=Europe/Amsterdam:20191219T200000
DTEND;TZID=Europe/Amsterdam:20191219T233000
DTSTAMP:20260419T183319
CREATED:20190830T101310Z
LAST-MODIFIED:20190830T101310Z
UID:1563-1576785600-1576798200@roemermooijman.nl
SUMMARY:De Tegenstander - Bij de Buren
DESCRIPTION:Wedstrijd in de eredivisie van de DONHN
URL:https://roemermooijman.nl/agenda-item/de-tegenstander-bij-de-buren/
LOCATION:Wijkvereniging De Link\, Standerdmolen 8-A\, Heerhugowaard\, Noord-Holland\, 1703NK\, Nederland
CATEGORIES:competitie,donhn,team
END:VEVENT
BEGIN:VEVENT
DTSTART;TZID=Europe/Amsterdam:20191210T200000
DTEND;TZID=Europe/Amsterdam:20191210T233000
DTSTAMP:20260419T183319
CREATED:20190830T101157Z
LAST-MODIFIED:20190830T101157Z
UID:1560-1576008000-1576020600@roemermooijman.nl
SUMMARY:De Paus - De Tegenstander
DESCRIPTION:Wedstrijd in de eredivisie van de DONHN
URL:https://roemermooijman.nl/agenda-item/de-paus-de-tegenstander/
LOCATION:Café de Paus\, P.J. Jongstraat 96\, Lutjebroek\, Noord-Holland\, 1614LH\, Nederland
CATEGORIES:competitie,donhn,team
END:VEVENT
BEGIN:VEVENT
DTSTART;TZID=Europe/Amsterdam:20191205T200000
DTEND;TZID=Europe/Amsterdam:20191205T233000
DTSTAMP:20260419T183319
CREATED:20190830T100901Z
LAST-MODIFIED:20190830T100901Z
UID:1558-1575576000-1575588600@roemermooijman.nl
SUMMARY:De Tegenstander - Lange Jan
DESCRIPTION:Wedstrijd in de eredivisie van de DONHN
URL:https://roemermooijman.nl/agenda-item/de-tegenstander-lange-jan/
LOCATION:Wijkvereniging De Link\, Standerdmolen 8-A\, Heerhugowaard\, Noord-Holland\, 1703NK\, Nederland
CATEGORIES:competitie,donhn,team
END:VEVENT
BEGIN:VEVENT
DTSTART;TZID=Europe/Amsterdam:20191121T200000
DTEND;TZID=Europe/Amsterdam:20191121T233000
DTSTAMP:20260419T183319
CREATED:20190830T100733Z
LAST-MODIFIED:20190830T100733Z
UID:1556-1574366400-1574379000@roemermooijman.nl
SUMMARY:De Tegenstander - Obdam United
DESCRIPTION:Wedstrijd in de eredivisie van de DONHN
URL:https://roemermooijman.nl/agenda-item/de-tegenstander-obdam-united/
LOCATION:Wijkvereniging De Link\, Standerdmolen 8-A\, Heerhugowaard\, Noord-Holland\, 1703NK\, Nederland
CATEGORIES:competitie,donhn,team
END:VEVENT
BEGIN:VEVENT
DTSTART;TZID=Europe/Amsterdam:20191105T200000
DTEND;TZID=Europe/Amsterdam:20191105T233000
DTSTAMP:20260419T183319
CREATED:20190830T100609Z
LAST-MODIFIED:20190830T100609Z
UID:1553-1572984000-1572996600@roemermooijman.nl
SUMMARY:de t'Happerij - De Tegenstander
DESCRIPTION:Wedstrijd in de eredivisie van de DONHN
URL:https://roemermooijman.nl/agenda-item/de-thapperij-de-tegenstander/
LOCATION:Café de t’Happerij\, Langevliet 56\, Julianadorp\, Noord-Holland\, 1787BE\, Nederland
CATEGORIES:competitie,donhn,team
END:VEVENT
BEGIN:VEVENT
DTSTART;TZID=Europe/Amsterdam:20191031T200000
DTEND;TZID=Europe/Amsterdam:20191031T233000
DTSTAMP:20260419T183319
CREATED:20190830T100338Z
LAST-MODIFIED:20190830T100338Z
UID:1551-1572552000-1572564600@roemermooijman.nl
SUMMARY:De Tegenstander - De Roos
DESCRIPTION:Wedstrijd in de eredivisie van de DONHN
URL:https://roemermooijman.nl/agenda-item/de-tegenstander-de-roos-3/
LOCATION:Wijkvereniging De Link\, Standerdmolen 8-A\, Heerhugowaard\, Noord-Holland\, 1703NK\, Nederland
CATEGORIES:competitie,donhn,team
END:VEVENT
BEGIN:VEVENT
DTSTART;TZID=Europe/Amsterdam:20191008T200000
DTEND;TZID=Europe/Amsterdam:20191008T233000
DTSTAMP:20260419T183319
CREATED:20190830T095825Z
LAST-MODIFIED:20190830T095825Z
UID:1547-1570564800-1570577400@roemermooijman.nl
SUMMARY:Softtippers - De Tegenstander
DESCRIPTION:Wedstrijd in de eredivisie van de DONHN
URL:https://roemermooijman.nl/agenda-item/softtippers-de-tegenstander-2/
LOCATION:De Kersepit\, Hoorn
CATEGORIES:competitie,donhn,team
END:VEVENT
BEGIN:VEVENT
DTSTART;TZID=Europe/Amsterdam:20191003T200000
DTEND;TZID=Europe/Amsterdam:20191003T233000
DTSTAMP:20260419T183319
CREATED:20190830T095719Z
LAST-MODIFIED:20190830T095719Z
UID:1545-1570132800-1570145400@roemermooijman.nl
SUMMARY:De Tegenstander - DV M.I.L.A.
DESCRIPTION:Wedstrijd in de eredivisie van de DONHN
URL:https://roemermooijman.nl/agenda-item/de-tegenstander-dv-m-i-l-a/
LOCATION:Wijkvereniging De Link\, Standerdmolen 8-A\, Heerhugowaard\, Noord-Holland\, 1703NK\, Nederland
CATEGORIES:competitie,donhn,team
END:VEVENT
BEGIN:VEVENT
DTSTART;TZID=Europe/Amsterdam:20190919T200000
DTEND;TZID=Europe/Amsterdam:20190919T233000
DTSTAMP:20260419T183319
CREATED:20190830T095346Z
LAST-MODIFIED:20190830T095346Z
UID:1543-1568923200-1568935800@roemermooijman.nl
SUMMARY:Lords of the Boards - De Tegenstander
DESCRIPTION:Wedstrijd in de eredivisie van de DONHN
URL:https://roemermooijman.nl/agenda-item/lords-of-the-boards-de-tegenstander/
LOCATION:Café d’Ontmoeting\, De Goorn
CATEGORIES:competitie,donhn,team
END:VEVENT
BEGIN:VEVENT
DTSTART;TZID=Europe/Amsterdam:20190912T200000
DTEND;TZID=Europe/Amsterdam:20190912T233000
DTSTAMP:20260419T183319
CREATED:20190830T095156Z
LAST-MODIFIED:20190830T095156Z
UID:1540-1568318400-1568331000@roemermooijman.nl
SUMMARY:De Tegenstander - Sportcafé Zwaag
DESCRIPTION:Wedstrijd in de eredivisie van de DONHN
URL:https://roemermooijman.nl/agenda-item/de-tegenstander-sportcafe-zwaag/
LOCATION:Wijkvereniging De Link\, Standerdmolen 8-A\, Heerhugowaard\, Noord-Holland\, 1703NK\, Nederland
CATEGORIES:competitie,donhn,team
END:VEVENT
BEGIN:VEVENT
DTSTART;TZID=Europe/Amsterdam:20190630T100000
DTEND;TZID=Europe/Amsterdam:20190630T190000
DTSTAMP:20260419T183319
CREATED:20190531T065902Z
LAST-MODIFIED:20190531T065902Z
UID:1443-1561888800-1561921200@roemermooijman.nl
SUMMARY:NDB Nationale Divisiekampioenschappen
DESCRIPTION:Op de nationale kampioenschappen spelen alle kampioenen van de bonden tegen elkaar met als doel zichzelf aan het einde van de dag tot Nederlands Kampioen te kunnen kronen
URL:https://roemermooijman.nl/agenda-item/ndb-nationale-divisiekampioenschappen/
LOCATION:Sporthal Corlaer\, Nijkerk\, Nederland
CATEGORIES:competitie,donhn,team,toernooi
END:VEVENT
BEGIN:VEVENT
DTSTART;TZID=Europe/Amsterdam:20190516T200000
DTEND;TZID=Europe/Amsterdam:20190516T233000
DTSTAMP:20260419T183319
CREATED:20190325T082202Z
LAST-MODIFIED:20190325T082202Z
UID:1378-1558036800-1558049400@roemermooijman.nl
SUMMARY:Kings - Team Prima Darts
DESCRIPTION:Wedstrijd in de eredivisie van de DONHN
URL:https://roemermooijman.nl/agenda-item/kings-team-prima-darts/
LOCATION:Café de Boell\, Den Helder
CATEGORIES:competitie,donhn,team
END:VEVENT
BEGIN:VEVENT
DTSTART;TZID=Europe/Amsterdam:20190509T200000
DTEND;TZID=Europe/Amsterdam:20190509T233000
DTSTAMP:20260419T183319
CREATED:20190325T082102Z
LAST-MODIFIED:20190325T082102Z
UID:1376-1557432000-1557444600@roemermooijman.nl
SUMMARY:Team Prima Darts - Bij de Buren
DESCRIPTION:Wedstrijd in de eredivisie van de DONHN
URL:https://roemermooijman.nl/agenda-item/team-prima-darts-buren/
LOCATION:Café de Hoek\, Wervershoof
CATEGORIES:competitie,donhn,team
END:VEVENT
BEGIN:VEVENT
DTSTART;TZID=Europe/Amsterdam:20190418T200000
DTEND;TZID=Europe/Amsterdam:20190418T233000
DTSTAMP:20260419T183319
CREATED:20190325T081958Z
LAST-MODIFIED:20190325T081958Z
UID:1374-1555617600-1555630200@roemermooijman.nl
SUMMARY:The Long John Gigolos - Team Prima Darts
DESCRIPTION:Wedstrijd in de eredivisie van de DONHN
URL:https://roemermooijman.nl/agenda-item/the-long-john-gigolos-team-prima-darts/
LOCATION:Café Lange Jan\, Enkhuizen
CATEGORIES:competitie,donhn,team
END:VEVENT
BEGIN:VEVENT
DTSTART;TZID=Europe/Amsterdam:20190411T200000
DTEND;TZID=Europe/Amsterdam:20190411T233000
DTSTAMP:20260419T183319
CREATED:20190325T075936Z
LAST-MODIFIED:20190325T075936Z
UID:1372-1555012800-1555025400@roemermooijman.nl
SUMMARY:Team Prima Darts - Obdam United
DESCRIPTION:Wedstrijd in de eredivisie van de DONHN.
URL:https://roemermooijman.nl/agenda-item/team-prima-darts-obdam-united/
LOCATION:Café de Hoek\, Wervershoof
CATEGORIES:competitie,donhn,team
END:VEVENT
BEGIN:VEVENT
DTSTART;TZID=Europe/Amsterdam:20190404T200000
DTEND;TZID=Europe/Amsterdam:20190404T233000
DTSTAMP:20260419T183319
CREATED:20190325T075733Z
LAST-MODIFIED:20190325T075733Z
UID:1370-1554408000-1554420600@roemermooijman.nl
SUMMARY:Lords of the Boards - Team Prima Darts
DESCRIPTION:Wedstrijd in de eredivisie van de DONHN.
URL:https://roemermooijman.nl/agenda-item/lords-the-boards-team-prima-darts/
LOCATION:Café d’Ontmoeting\, De Goorn
CATEGORIES:competitie,donhn,team
END:VEVENT
END:VCALENDAR